BEGIN:VCALENDAR
PRODID:-//Appelboomonline.be//Veilingkalender MIMEDIR//EN
VERSION:2.0
METHOD:PUBLISH
BEGIN:VTIMEZONE
TZID:GMT
BEGIN:STANDARD
TZNAME:GMT
TZOFFSETFROM:+0100
TZOFFSETTO:+0100
END:STANDARD
END:VTIMEZONE
BEGIN:VEVENT

DTSTART:20260506T140000Z
DTEND:20260506T140000Z
LOCATION:Doorn Noordstraat 17, 9400 Ninove
CATEGORIES:Sluiting vanaf
TRANSP:OPAQUE
SEQUENCE:0
UID:RFCALITEM639126505635386735
DTSTAMP:20260506T140000Z
DESCRIPTION;ENCODING=QUOTED-PRINTABLE:Diverse loten zonnepanelen -- batterijen -- omvormers -- reachtruck JUNGHEINRICH -- complete zonnepaneel installatie 400 panelen plus omvormer GOODWE
SUMMARY:Appelboomonline.be Sluiting vanaf - ONLINE VEILING VAN DE FALING ALFA SUN BV

PRIORITY:5
CLASS:PUBLIC
BEGIN:VALARM
TRIGGER:-PT120M
ACTION:DISPLAY
DESCRIPTION:Reminder
PRIORITY:5
END:VALARM
END:VEVENT
END:VCALENDAR