BEGIN:VCALENDAR
PRODID:-//Appelboomonline.be//Veilingkalender MIMEDIR//EN
VERSION:2.0
METHOD:PUBLISH
BEGIN:VTIMEZONE
TZID:GMT
BEGIN:STANDARD
TZNAME:GMT
TZOFFSETFROM:+0100
TZOFFSETTO:+0100
END:STANDARD
END:VTIMEZONE
BEGIN:VEVENT

DTSTART:20260508T140000Z
DTEND:20260508T140000Z
LOCATION:Industrielaan 41, 2250 Olen
CATEGORIES:Sluiting vanaf
TRANSP:OPAQUE
SEQUENCE:0
UID:RFCALITEM639126824521250558
DTSTAMP:20260508T140000Z
DESCRIPTION;ENCODING=QUOTED-PRINTABLE:30 diverse containers wo. bureelcontainers -- materiaalcontainers
SUMMARY:Appelboomonline.be Sluiting vanaf - ONLINE VEILING VAN DE FALING DCA - CONTAINERS

PRIORITY:5
CLASS:PUBLIC
BEGIN:VALARM
TRIGGER:-PT120M
ACTION:DISPLAY
DESCRIPTION:Reminder
PRIORITY:5
END:VALARM
END:VEVENT
END:VCALENDAR