BEGIN:VCALENDAR
PRODID:-//Appelboomonline.be//Veilingkalender MIMEDIR//EN
VERSION:2.0
METHOD:PUBLISH
BEGIN:VTIMEZONE
TZID:GMT
BEGIN:STANDARD
TZNAME:GMT
TZOFFSETFROM:+0100
TZOFFSETTO:+0100
END:STANDARD
END:VTIMEZONE
BEGIN:VEVENT

DTSTART:20260507T070000Z
DTEND:20260507T090000Z
LOCATION:Industrielaan 41, 2250 Olen
CATEGORIES:Kijkdag
TRANSP:OPAQUE
SEQUENCE:0
UID:RFCALITEM639126824516563591
DTSTAMP:20260507T070000Z
DESCRIPTION;ENCODING=QUOTED-PRINTABLE:30 diverse containers wo. bureelcontainers -- materiaalcontainers
SUMMARY:Appelboomonline.be Kijkdag - ONLINE VEILING VAN DE FALING DCA - CONTAINERS

PRIORITY:5
CLASS:PUBLIC
BEGIN:VALARM
TRIGGER:-PT120M
ACTION:DISPLAY
DESCRIPTION:Reminder
PRIORITY:5
END:VALARM
END:VEVENT
END:VCALENDAR